BEGIN:VCALENDAR
VERSION:2.0
PRODID:-//ChamberMaster//Event Calendar 2.0//EN
METHOD:PUBLISH
X-PUBLISHED-TTL:P3D
REFRESH-INTERVAL:P3D
CALSCALE:GREGORIAN
BEGIN:VEVENT
DTSTART;VALUE=DATE:20260319
DTEND;VALUE=DATE:20260320
TRANSP:TRANSPARENT
X-MICROSOFT-CDO-ALLDAYEVENT:TRUE
SUMMARY:SJA55+ Centre Presents Our Bud\, Spud and Chicken Event
DESCRIPTION:Saddle up for a fun-filled Western Style Bud\, Spud & Chicken Night in support of the St. James 55+ Centre! Enjoy a hearty bud\, spud\, and chicken meal alongside live entertainment\, raffles\, door prizes\, and plenty of western-themed fun. Dust off your boots\, throw on your best western wear\, and join us for a lively evening of food\, music\, and community spirit.
X-ALT-DESC;FMTTYPE=text/html:<p>Saddle up for a fun-filled Western Style <strong>Bud\, Spud &amp\; Chicken Night</strong> in support of the <strong>St. James 55+ Centre</strong>! Enjoy a hearty bud\, spud\, and chicken meal alongside live entertainment\, raffles\, door prizes\, and plenty of western-themed fun. Dust off your boots\, throw on your best western wear\, and join us for a lively evening of food\, music\, and community spirit.</p>\n
LOCATION:Royal Canadian Legion No. 4
UID:e.2532.1021
SEQUENCE:3
DTSTAMP:20260420T060026Z
URL:https://register.assiniboiachamber.ca/events/details/sja55-centre-presents-our-bud-spud-and-chicken-event-1021
END:VEVENT

END:VCALENDAR
